BEGIN:VCALENDAR
VERSION:2.0
PRODID:-//wp-events-plugin.com//7.2.3.1//EN
BEGIN:VEVENT
UID:22@pasitosdeluz.org
DTSTART;TZID=America/Mexico_City:20260226T180000
DTEND;TZID=America/Mexico_City:20260226T230000
DTSTAMP:20260213T224145Z
URL:https://pasitosdeluz.org/upcoming-events/illumination-vi-cena-y-show-e
 n-shangri-la/
SUMMARY:Illumination VI Cena y Show en Shangri-La
DESCRIPTION:RESERVA TUS TICKETS\n&nbsp\;\n¡Estamos volviendo a encender la
 s luces para los niños de Pasitos de Luz!\nIllumination VI Cena &amp\; Sh
 ow\, regresa al lujoso desarrollo frente al mar Shangri-La\, Marina Vallar
 ta para su 6.ª edición anual el jueves 26 de febrero a las 6pm.\n\nEl ev
 ento estará a cargo de los chefs Memo Wulff (Barrio Bistro) y otros recon
 ocidos chefs de Vallarta que se anunciarán próximamente.\n\n\nEl escenar
 io brilla de nuevo con Nacho Granados y Chris Lopez\nNacho Granados y Chri
 s Lopez estarán a cargo del entretenimiento de Illumination VI. Aclamados
  en Puerto Vallarta por sus presentaciones en The Palm Cabaret y otros rec
 onocidos lugares\, ofrecerán un espectáculo vibrante\, elegante y lleno 
 de energía con un repertorio especialmente preparado para esta noche tan 
 especial.\n\n\n¡Ayudando a los niños con discapacidad a ser lo mejor que
  pueden ser!\nIllumination Dinner &amp\; Show beneficiará a la organizaci
 ón local Pasitos de Luz\, donde niñas y niños con discapacidad de todo 
 Puerto Vallarta y Bahía de Banderas reciben servicios 100% gratuitos\, in
 cluyendo fisioterapia\, hidroterapia\, educación especial y apoyo nutrici
 onal. Este año Pasitos de Luz celebra 25 años marcando la diferencia en 
 la comunidad local.\nEste será un evento exclusivo para 230 afortunados i
 nvitados.\nLlévate a casa tentadores artículos de subasta (Hotel One &am
 p\; Only Mandarina\, Four Seasons\, Casa Velas y más)...\n\nComprando tus
  boletos\nLos boletos ya están disponibles para comprar en línea aquí:\
 nPor favor selecciona el número de boletos que deseas y procede al pago. 
 Las mesas tienen capacidad para hasta 10 invitados. Si estás reservando p
 ara un grupo\, puedes comprar múltiples boletos para completar tu mesa (m
 áximo 10 por mesa). También puedes hacer una donación extra opcional pa
 ra ayudarnos a cubrir las comisiones de procesamiento. ¡Muchas gracias!\n
  \nTe enviaremos tu(s) boleto(s) por correo electrónico una vez que recib
 amos la confirmación automática de tu compra. ¡Te agradecemos por apoya
 r nuestro trabajo!\nPara cualquier pregunta sobre el evento\, por favor ll
 ama a Arturo Ayala al +52 322 103 7938 o escríbele a info@pasitosdeluz.or
 g\n\n\n\n&nbsp\;\n\n
ATTACH;FMTTYPE=image/jpeg:https://pasitosdeluz.org/wp-content/uploads/2025
 /11/Poster-Illumination-2026-Ingles-scaled.jpg
CATEGORIES:Eventos
LOCATION:Shangri-La\, Av. Paseo de la Marina Sur #385 en Marina Vallarta\, 
 Puerto Vallarta\, Jalisco\, Mexico
X-APPLE-STRUCTURED-LOCATION;VALUE=URI;X-ADDRESS=Av. Paseo de la Marina Sur 
 #385 en Marina Vallarta\, Puerto Vallarta\, Jalisco\, Mexico;X-APPLE-RADIU
 S=100;X-TITLE=Shangri-La:geo:0,0
END:VEVENT
BEGIN:VTIMEZONE
TZID:America/Mexico_City
X-LIC-LOCATION:America/Mexico_City
BEGIN:STANDARD
DTSTART:20250226T180000
TZOFFSETFROM:-0600
TZOFFSETTO:-0600
TZNAME:CST
END:STANDARD
END:VTIMEZONE
END:VCALENDAR