BEGIN:VCALENDAR
VERSION:2.0
PRODID:-//wp-events-plugin.com//7.2.3.1//EN
BEGIN:VEVENT
UID:12@pasitosdeluz.org
DTSTART;TZID=America/Mexico_City:20250227T180000
DTEND;TZID=America/Mexico_City:20250227T220000
DTSTAMP:20250212T155148Z
URL:https://pasitosdeluz.org/upcoming-events/illumination-iv-cena-y-show-e
 n-shangri-la/
SUMMARY:Illumination V Cena y Show en Shangri-La
DESCRIPTION:La fecha ya está fijada para nuestra 5ª Iluminación Cena y S
 how en Shangri-La en Marina Vallarta. ¡Aparta la fecha para el jueves 27 
 de febrero de 2025! Será otra noche espectacular de entretenimiento y de 
 marcar la diferencia para los niños con discapacidad atendidos por Pasito
 s de Luz.\nObtenga más información sobre nuestros artículos exclusivos 
 de subasta en vivo y silenciosa: descubra experiencias únicas y obras de 
 arte invaluables.\n¡Haga clic aquí!\n&nbsp\;\n\n¿Interesado en acompañ
 arnos en Iluminación V? Por favor\, envía un correo electrónico a info@
 pasitosdeluz.org para expresar tu interés y te informaremos tan pronto co
 mo los boletos salgan a la venta.\n\nEsperamos verte el 27 de febrero.
ATTACH;FMTTYPE=image/jpeg:https://pasitosdeluz.org/wp-content/uploads/2024
 /05/Illumination-IV-photo-4.jpg
CATEGORIES:Eventos
LOCATION:Shangri-La\, Av. Paseo de la Marina Sur #385 en Marina Vallarta\, 
 Puerto Vallarta\, Jalisco\, Mexico
X-APPLE-STRUCTURED-LOCATION;VALUE=URI;X-ADDRESS=Av. Paseo de la Marina Sur 
 #385 en Marina Vallarta\, Puerto Vallarta\, Jalisco\, Mexico;X-APPLE-RADIU
 S=100;X-TITLE=Shangri-La:geo:0,0
END:VEVENT
BEGIN:VTIMEZONE
TZID:America/Mexico_City
X-LIC-LOCATION:America/Mexico_City
BEGIN:STANDARD
DTSTART:20240228T180000
TZOFFSETFROM:-0600
TZOFFSETTO:-0600
TZNAME:CST
END:STANDARD
END:VTIMEZONE
END:VCALENDAR