BEGIN:VCALENDAR
VERSION:2.0
PRODID:-//wp-events-plugin.com//7.2.3.1//EN
BEGIN:VEVENT
UID:28@pasitosdeluz.org
DTSTART;TZID=America/Mexico_City:20260226T180000
DTEND;TZID=America/Mexico_City:20260226T230000
DTSTAMP:20260213T223537Z
URL:https://pasitosdeluz.org/upcoming-events/gane-premios-exclusivos-en-la
 -subasta-de-illumination-vi-cena-y-show-en-shangri-la/
SUMMARY:Gane premios exclusivos en la subasta de Illumination VI: Cena y Sh
 ow en Shangri-La.
DESCRIPTION:\n\n\n¡La Cena y Show de Illumination de este año promete ser
  una velada emocionante! Venga preparado para participar en nuestra subast
 a en vivo.\nArtículo 1\nLuxury Puerto Vallarta Escape: Para 4 personas Ma
 rina Towers\nUbicado en el último y más codiciado tramo de terreno frent
 e al mar dentro de la exclusiva comunidad de Marina Vallarta\, Marina Towe
 rs es un ejemplo impresionante de arquitectura moderna y funcional\, dise
 ñada para un estilo de vida costero de alto nivel. Cada detalle ha sido c
 uidadosamente seleccionado para maximizar el confort y el estilo. Disfrute
  de un acceso sin esfuerzo a lo mejor de Puerto Vallarta: gastronomía gou
 rmet\, actividades marinas\, experiencias culturales\, boutiques\, galerí
 as de arte y spas rejuvenecedores\, todo a solo unos pasos.\nEste paquete 
 excepcional incluye:\n\n\n 	6 noches / 7 días\n 	Condominio de estreno\, 
 moderno\, con 4 recámaras y 4 baños.\n 	Ideal para hasta ocho personas (
 o cuatro parejas).\n 	Disponibilidad: Octubre y noviembre de 2026\; o ener
 o\, febrero y abril de 2027.\n\nLa combinación perfecta entre la serenida
 d frente al mar y la vibrante vida de la marina\, ideal para parejas o ami
 gos que buscan lujo\, cultura y relajación.\n\nDonado por y gracias a: Pe
 ter M.\n\nArtículo 2\nEscapada de Lujo frente al Lago en Kelowna: Sunset 
 Waterfront Resort\nDisfrute de una escapada inolvidable de una semana (6 n
 oches / 7 días) en una moderna unidad de esquina de tres recámaras\, rec
 ientemente renovada\, en el Sunset Waterfront Resort\, el destino frente a
 l lago más exclusivo de Kelowna.\nEsta residencia tipo loft de dos nivele
 s (townhouse-style) en el último piso está totalmente equipada y bellame
 nte amueblada\; cuenta con techos abovedados\, aire acondicionado\, excele
 nte insonorización\, máxima seguridad y un asador privado. Su ubicación
  en esquina ofrece mayor luminosidad\, privacidad y espacio\, ideal para r
 elajarse o convivir tras un día recorriendo la región vinícola de Okana
 gan. Situado directamente a orillas del lago Okanagan\, el resort lo sitú
 a a solo unos pasos del malecón\, playas\, galerías de arte\, restaurant
 es y la vibrante escena cultural de Kelowna\, a la vez que se encuentra a 
 minutos de bodegas de clase mundial y aventuras al aire libre.\nEste paque
 te exclusivo incluye:\n\n\n 	Tour privado de vinos para cuatro personas.\n
  	Cena maridaje para cuatro personas.\n 	Crédito de viaje de $2\,000 USD.
 \n 	Estancia: 6 noches / 7 días.\n\nDisponibilidad: Mayo\, junio\, septie
 mbre u octubre de 2026.\n\nDonado por y gracias a: Brian and Lynn C\n\nAr
 tículo 3\nLuxury Puerto Vallarta Escape: Para 2 personas Marina Towers\nU
 bicado en el último y más codiciado tramo de terreno frente al mar dentr
 o de la exclusiva comunidad de Marina Vallarta\, Marina Towers es un ejemp
 lo impresionante de arquitectura moderna y funcional\, diseñada para un e
 stilo de vida costero de alto nivel. Cada detalle ha sido cuidadosamente s
 eleccionado para maximizar el confort y el estilo. Disfrute de un acceso s
 in esfuerzo a lo mejor de Puerto Vallarta: gastronomía gourmet\, activida
 des marinas\, experiencias culturales\, boutiques\, galerías de arte y sp
 as rejuvenecedores\, todo a solo unos pasos.\nEste paquete excepcional inc
 luye:\n\n\n 	6 noches / 7 días\n 	Condominio de estreno\, moderno\, con 2
  recámaras.\n 	Ideal para dos personas.\n\nDisponibilidad: Octubre y novi
 embre de 2026\; o enero\, febrero y abril de 2027.\nLa combinación perfec
 ta entre la serenidad frente al mar y la vibrante vida de la marina\, idea
 l para parejas o amigos que buscan lujo\, cultura y relajación.\n\nDonado
  por y gracias a: Inge H.\n\nArtículo 4\nEstancia en One&amp\;Only Mandar
 ina\nSumérjase en la naturaleza desde su exclusiva casa del árbol\, situ
 ada entre montañas esmeralda rebosantes de vida silvestre. Disfrute de la
  serenidad de su terraza y piscina privada\, a solo unos pasos de playas b
 ordeadas de palmeras\, aguas cristalinas y un entorno vibrante diseñado p
 ara la reconexión.\nCruzar su puente personal es el inicio de una aventur
 a. Pase dos días de lujo relajándose en total privacidad y paz.\nEste pa
 quete excepcional incluye:\n\n\n 	Dos noches de alojamiento en una Ocean V
 iew Treehouse (Casa del Árbol con vista al mar).\n 	Desayuno para dos per
 sonas.\n 	Bebida no alcohólica de cortesía\, en un entorno diseñado par
 a el descanso absoluto y momentos inolvidables.\n\nDonado por y gracias a:
  One &amp\; Only\n\nSUBASTA SILECIOSA\n\nDisfrute participando en nuestra 
 subasta silenciosa\, donde encontrará una selección cuidadosa de experie
 ncias y piezas únicas que elevarán su velada y le permitirán llevarse a
  casa algo verdaderamente especial...\n\n1.- “Amor\, solo amor”\nAdmir
 e la pintura “Amor\, solo amor” de la Galería Isela Mariscal\, una ob
 ra que transmite sensibilidad y profundidad artística\, ideal para colecc
 ionistas y amantes del arte.\n\nPuja inicial: $3\,000 MXN.\n\n\n2.- “Gra
 nd Velas Riviera Nayarit”\nExperimente la relajación y la exclusividad 
 con un Day Pass para dos personas en Grand Velas Riviera Nayarit\, perfect
 o para disfrutar de instalaciones de clase mundial y de un día de lujo in
 igualable.\nPuja inicial: $4\,000 MXN.\n\n3.- “Villa Varadero Hotel”\n
 Planee unas vacaciones inolvidables con un certificado de estancia en el H
 otel Villa Varadero\, que incluye 2 noches y 3 días todo incluido para 2 
 adultos y 2 niños menores de 8 años\, en una habitación Deluxe\, ideal 
 para disfrutar en familia.\nPuja inicial: $9\,700 MXN.\n\n4.- “Hotel W P
 unta de Mita”\nDisfrute del estilo contemporáneo y la energía vibrante
  de W Punta Mita con un certificado de dos noches en una habitación está
 ndar con vista a la selva\, incluyendo desayuno para dos personas\, en uno
  de los destinos más exclusivos de la región.\nPuja inicial: $8\,000 MXN
 .\n\n5.- “Casa Velas Puerto Vallarta”\nConsiéntase con una experienci
 a de lujo en Casa Velas Puerto Vallarta\, con una estancia de 2 noches par
 a dos adultos en una Master Suite\, perfecta para una escapada sofisticada
  y romántica.\nPuja inicial: $20\,000 MXN.\n\n6.- “Four Seasons Resort 
 Punta Mita”\nDisfrute de un alojamiento de lujo en el Four Seasons Resor
 t Punta Mita en una Casita con vista al mar por 2 noches.\nPuja inicial: $
 50\,000 MXN.\n\n¡Manténgase al tanto de estos y otros emocionantes artí
 culos!\nLlévese a casa artículos de subasta irresistibles de destinos ic
 ónicos como One&amp\;Only Mandarina\, Marina Towers\, Four Seasons\, Casa
  Velas y más…\nCompre sus boletos y sea parte de una noche inolvidable:
 \n\nCONSEGUIR ENTRADAS\n&nbsp\;\nPara cualquier duda sobre el evento\, por
  favor llame a Arturo Ayala al +52 322 103 7938 o envíe un correo electr
 ónico a info@pasitosdeluz.org.
ATTACH;FMTTYPE=image/jpeg:https://pasitosdeluz.org/wp-content/uploads/2026
 /01/live-auction-item-poster-para-web-scaled.jpg
CATEGORIES:Private
END:VEVENT
BEGIN:VTIMEZONE
TZID:America/Mexico_City
X-LIC-LOCATION:America/Mexico_City
BEGIN:STANDARD
DTSTART:20250226T180000
TZOFFSETFROM:-0600
TZOFFSETTO:-0600
TZNAME:CST
END:STANDARD
END:VTIMEZONE
END:VCALENDAR