BEGIN:VCALENDAR
VERSION:2.0
PRODID:-//wp-events-plugin.com//7.2.3.1//EN
BEGIN:VEVENT
UID:25@pasitosdeluz.org
DTSTART;TZID=America/Mexico_City:20251217T180000
DTEND;TZID=America/Mexico_City:20251217T180000
DTSTAMP:20251205T223708Z
URL:https://pasitosdeluz.org/upcoming-events/el-arte-de-dar/
SUMMARY:El Arte de Dar
DESCRIPTION:¡Una noche mágica de arte y esperanza!\nEstamos transformando
  la creatividad en impacto para los niños de Pasitos de Luz.Acompáñanos
  a una velada muy especial en nuestra Subasta de Arte en Santo Coyote Puer
 to Vallarta\, el martes 17 de diciembre a las 6:00 PM.\nEsta es la primera
  edición de nuestra Subasta de Arte\, un nuevo evento distintivo que cele
 bra el arte\, la comunidad y la esperanza.\nUna experiencia artística ext
 raordinaria con la participación de más de 40 talentosos artistas\nLos i
 nvitados podrán disfrutar de una amplia variedad de obras originales crea
 das por reconocidos artistas\, entre ellos: Laura Ramírez\, Adis Soriano\
 , Alfonso Girón\, Alvaro Cuevas\, Benito Zamora\, Chapis Fregoso\, Daniel
  Kent\, Doris\, Fray Robertiño\, Gontorr\, H. G. Schiavon\, Jaime Tafoya\
 , José Parra\, Luci Williams\, Luis Espiridion\, Menaze\, Ricardo Mejorad
 a\, Roberto López\, Salvador Rodríguez\, Sandra Carvajal\, Sangil\, Spel
 \, Toni Guerra\, Vicente Ponce\, Violeta Rivera\, Yun Yun y Zero.\n\nObras
  Presentadas en Subasta\nEsta primera edición de nuestra Subasta de Arte 
 presentará una colección especial de piezas originales ofrecidas por los
  artistas participantes en apoyo a Pasitos de Luz. La colección incluye p
 inturas\, esculturas\, obras mixtas\, serigrafía\, textiles\, bronce y pi
 ezas contemporáneas.\nUn porcentaje de cada obra subastada contribuirá a
  brindar terapias esenciales y programas para niñas y niños con discapac
 idad en Pasitos de Luz.\n\n \nLa velada estará dirigida por el talentoso
  Memo Martínez\, garantizando una subasta de arte dinámica y envolvente 
 de principio a fin\n\n\n\nUna experiencia inolvidable\nLos invitados disfr
 utarán de:\n\n 	Deliciosos canapés servidos durante toda la velada\n 	Un
  entorno cuidadosamente preparado en Santo Coyote\n 	Sorpresas especiales 
 a lo largo de la noche\n 	Una experiencia cultural íntima\, rodeada de am
 antes del arte\n\nReservación Requerida\nLa entrada es gratuita\, pero se
  requiere reservación debido al cupo limitado.Para asegurar tu lugar\, po
 r favor llama al:📞 (33) 17 1616 75 📞 (33) 14 105847\nEsperamos dar
 te la bienvenida a una noche llena de arte\, generosidad y esperanza.\nPar
 a cualquier consulta\, por favor contacta a:\n📧 info@pasitosdeluz.org\n
 Pelícanos 104\, Marina Vallarta\, Puerto Vallarta\, Jal.
ATTACH;FMTTYPE=image/jpeg:https://pasitosdeluz.org/wp-content/uploads/2025
 /12/photo_2025-12-02_15-13-30.jpg
CATEGORIES:Eventos
LOCATION:Santo Coyote\, Pelícanos 104\, Marina Vallarta\, Puerto Vallarta\
 , Jalisco\, Mexico
X-APPLE-STRUCTURED-LOCATION;VALUE=URI;X-ADDRESS=Pelícanos 104\, Marina Val
 larta\, Puerto Vallarta\, Jalisco\, Mexico;X-APPLE-RADIUS=100;X-TITLE=Sant
 o Coyote:geo:0,0
END:VEVENT
BEGIN:VTIMEZONE
TZID:America/Mexico_City
X-LIC-LOCATION:America/Mexico_City
BEGIN:STANDARD
DTSTART:20241217T180000
TZOFFSETFROM:-0600
TZOFFSETTO:-0600
TZNAME:CST
END:STANDARD
END:VTIMEZONE
END:VCALENDAR